BEGIN:VCALENDAR
VERSION:2.0
PRODID:-//The Survey Association - ECPv6.15.20//NONSGML v1.0//EN
CALSCALE:GREGORIAN
METHOD:PUBLISH
X-ORIGINAL-URL:https://www.tsa-uk.org.uk
X-WR-CALDESC:Events for The Survey Association
REFRESH-INTERVAL;VALUE=DURATION:PT1H
X-Robots-Tag:noindex
X-PUBLISHED-TTL:PT1H
BEGIN:VTIMEZONE
TZID:UTC
BEGIN:STANDARD
TZOFFSETFROM:+0000
TZOFFSETTO:+0000
TZNAME:UTC
DTSTART:20160101T000000
END:STANDARD
END:VTIMEZONE
BEGIN:VEVENT
DTSTART;TZID=UTC:20170331T083000
DTEND;TZID=UTC:20170331T120000
DTSTAMP:20260421T140032
CREATED:20170224T114306Z
LAST-MODIFIED:20170224T115044Z
UID:3732-1490949000-1490961600@www.tsa-uk.org.uk
SUMMARY:KOREC - Lunch & Learn (London)
DESCRIPTION:Join KOREC for a series of informative lunch and learn sessions throughout the UK. \nThe sessions have been designed to give you the latest information your business needs to thrive within the geospatial market.
URL:https://www.tsa-uk.org.uk/events/korec-lunch-learn-london/
END:VEVENT
BEGIN:VEVENT
DTSTART;TZID=UTC:20170330T093000
DTEND;TZID=UTC:20170330T160000
DTSTAMP:20260421T140032
CREATED:20170206T143129Z
LAST-MODIFIED:20170206T143129Z
UID:3687-1490866200-1490889600@www.tsa-uk.org.uk
SUMMARY:GeoDATA 2017
DESCRIPTION:GeoDATA 2017 Ireland Showcase – an all Ireland event – is an educational\, one-day seminar and supporting exhibition for professionals involved with geospatial data\, software and services. \n\nThis event is free to attend and offers attendees access to a dual-track presentation programme\, an exhibition showcasing the latest geospatial products and services and the opportunity to network with others throughout the day. \n\nWith a focus on inspiration and education\, this is the ideal environment for building new relationships\, sourcing new products\, gaining advice on innovation and extending your knowledge in a fast-moving industry.
URL:https://www.tsa-uk.org.uk/events/geodata-2017/
END:VEVENT
BEGIN:VEVENT
DTSTART;TZID=UTC:20170330T083000
DTEND;TZID=UTC:20170330T120000
DTSTAMP:20260421T140032
CREATED:20170224T114148Z
LAST-MODIFIED:20170224T114921Z
UID:3730-1490862600-1490875200@www.tsa-uk.org.uk
SUMMARY:KOREC - Lunch & Learn (Exeter)
DESCRIPTION:Join KOREC for a series of informative lunch and learn sessions throughout the UK. \nThe sessions have been designed to give you the latest information your business needs to thrive within the geospatial market.
URL:https://www.tsa-uk.org.uk/events/korec-lunch-learn-exeter/
END:VEVENT
BEGIN:VEVENT
DTSTART;VALUE=DATE:20170329
DTEND;VALUE=DATE:20170330
DTSTAMP:20260421T140032
CREATED:20170116T140551Z
LAST-MODIFIED:20170206T120146Z
UID:3545-1490745600-1490831999@www.tsa-uk.org.uk
SUMMARY:TSA AGM
DESCRIPTION:TSA’s AGM – all members are welcome. \nDetails will be sent out a month beforehand. \nTSA Members Only
URL:https://www.tsa-uk.org.uk/events/tsa-agm/
END:VEVENT
BEGIN:VEVENT
DTSTART;TZID=UTC:20170328T083000
DTEND;TZID=UTC:20170328T120000
DTSTAMP:20260421T140032
CREATED:20170224T114003Z
LAST-MODIFIED:20170224T114818Z
UID:3726-1490689800-1490702400@www.tsa-uk.org.uk
SUMMARY:KOREC - Lunch & Learn (Worcester)
DESCRIPTION:Join KOREC for a series of informative lunch and learn sessions throughout the UK. \nThe sessions have been designed to give you the latest information your business needs to thrive within the geospatial market.
URL:https://www.tsa-uk.org.uk/events/korec-lunch-learn-worcester/
END:VEVENT
BEGIN:VEVENT
DTSTART;TZID=UTC:20170323T083000
DTEND;TZID=UTC:20170323T120000
DTSTAMP:20260421T140032
CREATED:20170224T113916Z
LAST-MODIFIED:20170224T114623Z
UID:3724-1490257800-1490270400@www.tsa-uk.org.uk
SUMMARY:KOREC - Lunch & Learn (Maidstone)
DESCRIPTION:Join KOREC for a series of informative lunch and learn sessions throughout the UK. \nThe sessions have been designed to give you the latest information your business needs to thrive within the geospatial market.
URL:https://www.tsa-uk.org.uk/events/korec-lunch-learn-maidstone/
END:VEVENT
BEGIN:VEVENT
DTSTART;TZID=UTC:20170322T083000
DTEND;TZID=UTC:20170322T120000
DTSTAMP:20260421T140032
CREATED:20170224T113810Z
LAST-MODIFIED:20170224T114737Z
UID:3722-1490171400-1490184000@www.tsa-uk.org.uk
SUMMARY:KOREC - Lunch & Learn (Norwich)
DESCRIPTION:Join KOREC for a series of informative lunch and learn sessions throughout the UK. \nThe sessions have been designed to give you the latest information your business needs to thrive within the geospatial market.
URL:https://www.tsa-uk.org.uk/events/korec-lunch-learn-norwich/
END:VEVENT
BEGIN:VEVENT
DTSTART;TZID=UTC:20170321T083000
DTEND;TZID=UTC:20170321T120000
DTSTAMP:20260421T140032
CREATED:20170224T113647Z
LAST-MODIFIED:20170224T114705Z
UID:3720-1490085000-1490097600@www.tsa-uk.org.uk
SUMMARY:KOREC - Lunch & Learn (Swindon)
DESCRIPTION:Join KOREC for a series of informative lunch and learn sessions throughout the UK. \nThe sessions have been designed to give you the latest information your business needs to thrive within the geospatial market.
URL:https://www.tsa-uk.org.uk/events/korec-lunch-learn-swindon/
END:VEVENT
BEGIN:VEVENT
DTSTART;TZID=UTC:20170315T083000
DTEND;TZID=UTC:20170315T120000
DTSTAMP:20260421T140032
CREATED:20170224T113042Z
LAST-MODIFIED:20170224T113042Z
UID:3718-1489566600-1489579200@www.tsa-uk.org.uk
SUMMARY:KOREC - Lunch & Learn (Castleford)
DESCRIPTION:Join KOREC for a series of informative lunch and learn sessions throughout the UK. \nThe sessions have been designed to give you the latest information your business needs to thrive within the geospatial market.
URL:https://www.tsa-uk.org.uk/events/korec-lunch-learn-castleford/
END:VEVENT
BEGIN:VEVENT
DTSTART;TZID=UTC:20170314T083000
DTEND;TZID=UTC:20170314T120000
DTSTAMP:20260421T140032
CREATED:20170224T112612Z
LAST-MODIFIED:20170224T112811Z
UID:3714-1489480200-1489492800@www.tsa-uk.org.uk
SUMMARY:KOREC - Lunch & Learn (Nottingham)
DESCRIPTION:Join KOREC for a series of informative lunch and learn sessions throughout the UK. \nThe sessions have been designed to give you the latest information your business needs to thrive within the geospatial market.
URL:https://www.tsa-uk.org.uk/events/korec-lunch-learn/
END:VEVENT
BEGIN:VEVENT
DTSTART;VALUE=DATE:20170301
DTEND;VALUE=DATE:20170302
DTSTAMP:20260421T140032
CREATED:20170116T140337Z
LAST-MODIFIED:20170224T143201Z
UID:3539-1488326400-1488412799@www.tsa-uk.org.uk
SUMMARY:TSA Health & Safety Seminar (Milton Keynes)
DESCRIPTION:TSA’s Annual Health & Safety Seminar – generously hosted by Leica Geosystems in Milton Keynes. \nMD Safety Management run a seminar on the latest H&S updates and focus on a specific topic in more detail. \nTSA members only.
URL:https://www.tsa-uk.org.uk/events/tsa-health-safety-seminar-milton-keynes/
ATTACH;FMTTYPE=image/jpeg:https://www.tsa-uk.org.uk/media/2017/01/CPDCertifiedlogo_Smaller.jpg
END:VEVENT
BEGIN:VEVENT
DTSTART;TZID=UTC:20170223T090000
DTEND;TZID=UTC:20170223T150000
DTSTAMP:20260421T140032
CREATED:20170206T115332Z
LAST-MODIFIED:20170206T115744Z
UID:3682-1487840400-1487862000@www.tsa-uk.org.uk
SUMMARY:Topcon - The Elite Survey Suite
DESCRIPTION:Topcon invites you to demo its recently launched Elite Survey Suite! \nJoin the team at one of two events where Topcon will be offering you exclusive access to its range of newly released products and services\, designed to make any survey job faster\, easier and more profitable. \nThese one-day events give you the opportunity to demo Topcon’s latest robotic total station\, the GT-1000\, while also gaining a sneak preview of many more new products from Topcon. \nWe look forward to seeing you there! \nLondon\n\nThursday 23rd February 2017\nArcelorMittal Orbit\nQueen Elizabeth Olympic Park\n3 Thornton St\nLondon\nE20 2AD
URL:https://www.tsa-uk.org.uk/events/topcon-elite-survey-suite-2/
END:VEVENT
BEGIN:VEVENT
DTSTART;TZID=UTC:20170221T090000
DTEND;TZID=UTC:20170221T150000
DTSTAMP:20260421T140032
CREATED:20170206T115010Z
LAST-MODIFIED:20170206T115847Z
UID:3679-1487667600-1487689200@www.tsa-uk.org.uk
SUMMARY:Topcon - The Elite Survey Suite
DESCRIPTION:Topcon invites you to demo its recently launched Elite Survey Suite! \nJoin the team at one of two events where Topcon will be offering you exclusive access to its range of newly released products and services\, designed to make any survey job faster\, easier and more profitable. \nThese one-day events give you the opportunity to demo Topcon’s latest robotic total station\, the GT-1000\, while also gaining a sneak preview of many more new products from Topcon. \nWe look forward to seeing you there! \n\n\nManchester\n\nTuesday 21st February 2017\nNovotel Manchester West (Worsley)\nWorsley Brow\nWorsley\nManchester \nM28 2YA
URL:https://www.tsa-uk.org.uk/events/topcon-elite-survey-suite/
END:VEVENT
END:VCALENDAR